BEGIN:VCALENDAR
VERSION:2.0
PRODID:-//Tukios.com/
BEGIN:VEVENT
UID:3e8da71a-46e7-435e-92a9-9f1d632aaaf1@www.sax-tiedemann.com
DTSTAMP:20260421T173604Z
DTSTART:20260428T160000Z
DTEND:20260428T170000Z
SUMMARY:Visitation
DESCRIPTION:
URL:https://www.sax-tiedemann.com/obituaries/maria-gumino
LOCATION: 9568 Belmont Ave  Franklin Park IL 60131
GEO:41.9371057;-87.8651413
END:VEVENT
END:VCALENDAR