BEGIN:VCALENDAR
VERSION:2.0
PRODID:-//Tukios.com/
BEGIN:VEVENT
UID:5f813363-f30a-418d-a77b-d345c200ebb3@www.sax-tiedemann.com
DTSTAMP:20260421T173752Z
DTSTART:20260428T183000Z
DTEND:20260428T193000Z
SUMMARY:Interment
DESCRIPTION:
URL:https://www.sax-tiedemann.com/obituaries/maria-gumino
LOCATION: 20953 W Hoff Rd  Elwood IL 60421
GEO:41.3921281;-88.1304732
END:VEVENT
END:VCALENDAR