BEGIN:VCALENDAR
VERSION:2.0
PRODID:-//Tukios.com/
BEGIN:VEVENT
UID:5ef61af8-3b3e-4587-bfa0-c19f86c2ae78@www.sax-tiedemann.com
DTSTAMP:20260420T100131Z
DTSTART:20260420T200000Z
DTEND:20260421T020000Z
SUMMARY:Visitation
DESCRIPTION:
URL:https://www.sax-tiedemann.com/obituaries/rosemarie-gervais
LOCATION: 9568 Belmont Ave  Franklin Park IL 60131
GEO:41.9371057;-87.8651413
END:VEVENT
END:VCALENDAR