BEGIN:VCALENDAR
VERSION:2.0
PRODID:-//Tukios.com/
BEGIN:VEVENT
UID:b60a079c-30fe-41e5-b79d-c3a4e0c4b175@www.sax-tiedemann.com
DTSTAMP:20260420T095528Z
DTSTART:20260421T140000Z
DTEND:20260421T144500Z
SUMMARY:Prayer Service
DESCRIPTION:
URL:https://www.sax-tiedemann.com/obituaries/rosemarie-gervais
LOCATION: 9568 Belmont Ave  Franklin Park IL 60131
GEO:41.9371057;-87.8651413
END:VEVENT
END:VCALENDAR