BEGIN:VCALENDAR
VERSION:2.0
PRODID:-//Tukios.com/
BEGIN:VEVENT
UID:e7bdd5f1-5683-401f-940e-d49647a55434@www.sax-tiedemann.com
DTSTAMP:20260420T100433Z
DTSTART:20260421T150000Z
DTEND:20260421T160000Z
SUMMARY:Mass
DESCRIPTION:
URL:https://www.sax-tiedemann.com/obituaries/rosemarie-gervais
LOCATION: 4157 Atlantic Ave.  Schiller Park, IL 60176
GEO:41.9549214;-87.8694371
END:VEVENT
END:VCALENDAR