BEGIN:VCALENDAR
VERSION:2.0
PRODID:-//Tukios.com/
BEGIN:VEVENT
UID:473f0855-dc57-4bc6-aa2a-f4d9e0e4a820@www.sax-tiedemann.com
DTSTAMP:20260422T083749Z
DTSTART:20260421T163000Z
DTEND:20260421T173000Z
SUMMARY:Interment
DESCRIPTION:
URL:https://www.sax-tiedemann.com/obituaries/rosemarie-gervais
LOCATION: 8600 N Milwaukee Ave  Niles IL 60714
GEO:42.0375042;-87.8242318
END:VEVENT
END:VCALENDAR